Workbook

Sheet Roster Overview
A1: Faction | B1: Total Points | C1: Total Ships | D1: Total Epic | E1: Grand Total Points | F1: Grand Total Ships | G1: Grand Total Epic
A2: Rebel Alliance | B2: =SUM('Rebel Alliance'!E2) -> 0 | C2: =SUM('Rebel Alliance'!E4) -> 0 | D2: =SUM('Rebel Alliance'!E6) -> 0 | E2: =SUM(B2:B8) -> 0 | F2: =SUM(C2:C8) -> 0 | G2: =SUM(D2:D8) -> 0
A3: The Empire | B3: =SUM('The Empire'!E2) -> 0 | C3: =SUM('The Empire'!E4) -> 0 | D3: =SUM('The Empire'!E6) -> 0
A4: The Republic | B4: =SUM('The Republic'!E2) -> 0 | C4: =SUM('The Republic'!E4) -> 0 | D4: =SUM('The Republic'!E6) -> 0
A5: Separatists | B5: =SUM(Separatists!E2) -> 0 | C5: =SUM(Separatists!E4) -> 0 | D5: =SUM(Separatists!E6) -> 0
A6: The Resistance | B6: =SUM('The Resistance'!E2) -> 0 | C6: =SUM('The Resistance'!E4) -> 0 | D6: =SUM('The Resistance'!E6) -> 0
A7: First Order | B7: =SUM('First Order'!E2) -> 0 | C7: =SUM('First Order'!E4) -> 0 | D7: =SUM('First Order'!E6) -> 0
A8: Scum | B8: =SUM(Scum!E2) -> 0 | C8: =SUM(Scum!E4) -> 0 | D8: =SUM(Scum!E6) -> 0

Sheet Rebel Alliance
A1: Ship/Hero | B1: Cost as in book | C1: Quantity | D1: Total Cost | E1: Rebel Alliance Points
A2: Jake Farrel | B2: 45 | C2: 0 | D2: =B2*C2 -> 0 | E2: =SUM(D2:D120) -> 0
A3: Arvel Crynyd | B3: 41 | C3: 0 | D3: =B3*C3 -> 0 | E3: Ships
A4: Ahsoka Tano | B4: 0 | C4: 0 | D4: =B4*C4 -> 0 | E4: =SUM(C2:C120) -> 0
A5: Hera Syndulla (A-Wing) | B5: 0 | C5: 0 | D5: =B5*C5 -> 0 | E5: Epic Ships
A6: Wedge Antilles (A-Wing) | B6: 0 | C6: 0 | D6: =B6*C6 -> 0 | E6: 0
A7: Sabine Wren (A-Wing) | B7: 0 | C7: 0 | D7: =B7*C7 -> 0
A8: Tycho Celchu | B8: 0 | C8: 0 | D8: =B8*C8 -> 0
A9: Shara Bey | B9: 0 | C9: 0 | D9: =B9*C9 -> 0
A10: Keo Venzee | B10: 0 | C10: 0 | D10: =B10*C10 -> 0
A11: Derek Klivian | B11: 0 | C11: 0 | D11: =B11*C11 -> 0
A12: Green Squadron Pilot (A-Wing) | B12: 35 | C12: 0 | D12: =B12*C12 -> 0
A13: Hera Syndulla (B-Wing) | B13: 0 | C13: 0 | D13: =B13*C13 -> 0
A14: Ten Numb | B14: 66 | C14: 0 | D14: =B14*C14 -> 0
A15: Gina Moonsong | B15: 0 | C15: 0 | D15: =B15*C15 -> 0
A16: Braylen Stramm | B16: 69 | C16: 0 | D16: =B16*C16 -> 0
A17: Netram Pollard | B17: 0 | C17: 0 | D17: =B17*C17 -> 0
A18: Adon Fox | B18: 0 | C18: 0 | D18: =B18*C18 -> 0
... A86: Gauntlet Fighter | B86: 0 | C86: 0 | D86: =B86*C86 -> 0

Sheet The Empire
A1: Ship/Hero | B1: Cost as in book | C1: Quantity | D1: Total Cost | E1: The Empire Points
A2: Dark Curse | B2: 0 | C2: 0 | D2: =B2*C2 -> 0 | E2: =SUM(D5:D131) -> 0
A3: Backstabber | B3: 0 | C3: 0 | D3: =B3*C3 -> 0 | E3: Ships
A4: Major Mianda | B4: 0 | C4: 0 | D4: =B4*C4 -> 0 | E4: =SUM(C5:C131) -> 0
A5: Mauler Mithel | B5: 33 | C5: 0 | D5: =B5*C5 -> 0 | E5: Epic Ships
A6: Howlrunner | B6: 39 | C6: 0 | D6: =B6*C6 -> 0 | E6: 0
A7: Scourge Skutu | B7: 32 | C7: 0 | D7: =B7*C7 -> 0
A8: Iden Versio | B8: 45 | C8: 0 | D8: =B8*C8 -> 0
A9: Gideon Hask (Superiority) | B9: 30 | C9: 0 | D9: =B9*C9 -> 0
A10: Del Meeko | B10: 30 | C10: 0 | D10: =B10*C10 -> 0
A11: Seyn Marana | B11: 30 | C11: 0 | D11: =B11*C11 -> 0
A12: Valen Rudor | B12: 26 | C12: 0 | D12: =B12*C12 -> 0
A13: Night Beast | B13: 22 | C13: 0 | D13: =B13*C13 -> 0
A14: Moff Gideon | B14: 0 | C14: 0 | D14: =B14*C14 -> 0
A15: Magna Tolvan | B15: 0 | C15: 0 | D15: =B15*C15 -> 0
A16: Trica Quell | B16: 0 | C16: 0 | D16: =B16*C16 -> 0
A17: Lietenant Hebsly | B17: 0 | C17: 0 | D17: =B17*C17 -> 0
A18: Wampa | B18: 27 | C18: 0 | D18: =B18*C18 -> 0
... A104: Guantlet | B104: 0 | C104: 0 | D104: =B104*C104 -> 0

Sheet The Republic
A1: Ship/Hero | B1: Cost as in book | C1: Quantity | D1: Total Cost | E1: The Republic Points
A2: Obi-Wan Kenobi | B2: 63 | C2: 0 | D2: =B2*C2 -> 0 | E2: =SUM(D2:D120) -> 0
A3: Anakin Skywalker (Delta 7) | B3: 89 | C3: 0 | D3: =B3*C3 -> 0 | E3: Ships
A4: Plo Koon (Delta 7) | B4: 71 | C4: 0 | D4: =B4*C4 -> 0 | E4: =SUM(C2:C120) -> 0
A5: Mace Windu | B5: 65 | C5: 0 | D5: =B5*C5 -> 0 | E5: Epic Ships
A6: Saesee Tiin | B6: 70 | C6: 0 | D6: =B6*C6 -> 0 | E6: 0
A7: Barriss Offee | B7: 71 | C7: 0 | D7: =B7*C7 -> 0
A8: Ahsoka Tano | B8: 60 | C8: 0 | D8: =B8*C8 -> 0
A9: Luminara Unduli | B9: 62 | C9: 0 | D9: =B9*C9 -> 0
A10: Adi Gallia | B10: 92 | C10: 0 | D10: =B10*C10 -> 0
A11: Jedi Knight | B11: 57 | C11: 0 | D11: =B11*C11 -> 0
A12: Jedi Knight (7B) | B12: 57 | C12: 0 | D12: =B12*C12 -> 0
A13: Obi-Wan Kenobi (ETA2) | B13: 43 | C13: 0 | D13: =B13*C13 -> 0
A14: Anakin Skywalker (ETA2) | B14: 65 | C14: 0 | D14: =B14*C14 -> 0
A15: Adi Gallia (ETA2) | B15: 0 | C15: 0 | D15: =B15*C15 -> 0
A16: Kit Fisto (ETA2) | B16: 54 | C16: 0 | D16: =B16*C16 -> 0
A17: Aayla Secura (ETA2) | B17: 48 | C17: 0 | D17: =B17*C17 -> 0
A18: Shaak Ti (ETA2) | B18: 59 | C18: 0 | D18: =B18*C18 -> 0
... A55: Sinker | B55: 79 | C55: 0 | D55: =B55*C55 -> 0
A56: ARC-170 (Squad Seven Veteran) | B56: 74 | C56: 0 | D56: 0
A57: ARC-170 (104th Battalion Pilot) | B57: 70 | C57: 0 | D57: =B57*C57 -> 0
A58: Knack | B58: 0 | C58: 0 | D58: =B58*C58 -> 0
A59: Slider | B59: 0 | C59: 0 | D59: =B59*C59 -> 0
A60: Hawk | B60: 0 | C60: 0 | D60: =B60*C60 -> 0
A61: Stub | B61: 0 | C61: 0 | D61: =B61*C61 -> 0
A62: Drift | B62: 0 | C62: 0 | D62: =B62*C62 -> 0
A63: Warthog | B63: 0 | C63: 0 | D63: =B63*C63 -> 0
A64: Boost | B64: 0 | C64: 0 | D64: =B64*C64 -> 0
A65: Killer | B65: 0 | C65: 0 | D65: =B65*C65 -> 0
A66: Clone Z-95 Headhunter | B66: 0 | C66: 0 | D66: =B66*C66 -> 0
A67: Bo-Katan Kryze | B67: 0 | C67: 0 | D67: =B67*C67 -> 0
A68: Nite Owl Liberator | B68: 0 | C68: 0 | D68: =B68*C68 -> 0
A69: Syliure-Class Hyperspace Ring | B69: 0 | C69: 0 | D69: =B69*C69 -> 0

Sheet Separatists
A1: Ship/Hero | B1: Cost as in book | C1: Quantity | D1: Total Cost | E1: Separatists Points
A2: General Grevious | B2: 63 | C2: 0 | D2: =B2*C2 -> 0 | E2: =SUM(D2:D120) -> 0
A3: Wat Tambor | B3: 57 | C3: 0 | D3: =B3*C3 -> 0 | E3: Ships
A4: Captain Sear | B4: 48 | C4: 0 | D4: =B4*C4 -> 0 | E4: =SUM(C2:C120) -> 0
A5: Belbullab-22 Starfighter (Skakoan Ace) | B5: 42 | C5: 0 | D5: =B5*C5 -> 0 | E5: Epic Ships
A6: Belbullab-22 Starfighter (Feethan Ottraw Autopilot) | B6: 38 | C6: 0 | D6: =B6*C6 -> 0 | E6: 0
A7: The Iron Assembler | B7: 0 | C7: 0 | D7: =B7*C7 -> 0
A8: DFS-081 | B8: 27 | C8: 0 | D8: =B8*C8 -> 0
A9: DFS-311 | B9: 0 | C9: 0 | D9: =B9*C9 -> 0
A10: Precise Hunter | B10: 28 | C10: 0 | D10: =B10*C10 -> 0
A11: Haor Chall Prototype | B11: 27 | C11: 0 | D11: =B11*C11 -> 0
A12: Kelrodo-AI Holdout | B12: 27 | C12: 0 | D12: =B12*C12 -> 0
A13: Vulture-Class Droid Fighter (Separatist) | B13: 26 | C13: 0 | D13: =B13*C13 -> 0
A14: Vulture-Class Droid Fighter (Federation) | B14: 24 | C14: 0 | D14: =B14*C14 -> 0
A15: Volan Das | B15: 0 | C15: 0 | D15: =B15*C15 -> 0
A16: DIS-T8 1 | B16: 0 | C16: 0 | D16: =B16*C16 -> 0
A17: DIS-347 | B17: 0 | C17: 0 | D17: =B17*C17 -> 0
A18: Phlac-Arphocc Protoype | B18: 0 | C18: 0 | D18: =B18*C18 -> 0
... A45: Rogue Class Starfighter | B45: 47 | C45: 0 | D45: =B45*C45 -> 0

Sheet The Resistance
A1: Ship/Hero | B1: Cost as in book | C1: Quantity | D1: Total Cost | E1: The Resistance Points
A2: Poe Dameron | B2: 105 | C2: 0 | D2: =B2*C2 -> 0 | E2: =SUM(D2:D120) -> 0
A3: Ello Asty | B3: 87 | C3: 0 | D3: =B3*C3 -> 0 | E3: Ships
A4: Nien Nunb | B4: 88 | C4: 0 | D4: =B4*C4 -> 0 | E4: =SUM(C2:C120) -> 0
A5: Venisa Doza | B5: 78 | C5: 0 | D5: =B5*C5 -> 0 | E5: Epic Ships
A6: C'ai Threnalli (X-Wing) | B6: 77 | C6: 0 | D6: =B6*C6 -> 0 | E6: 0
A7: Kare Kun | B7: 79 | C7: 0 | D7: =B7*C7 -> 0
A8: Temmin Wexley | B8: 76 | C8: 0 | D8: =B8*C8 -> 0
A9: Joph Seastriker | B9: 73 | C9: 0 | D9: =B9*C9 -> 0
A10: Zay Versio | B10: 74 | C10: 0 | D10: =B10*C10 -> 0
A11: Lieutenant Bastian | B11: 72 | C11: 0 | D11: =B11*C11 -> 0
A12: Nimi Chireen | B12: 72 | C12: 0 | D12: =B12*C12 -> 0
A13: Jessika Pava | B13: 78 | C13: 0 | D13: =B13*C13 -> 0
A14: Jaycris Tubbs | B14: 65 | C14: 0 | D14: =B14*C14 -> 0
A15: T-70 X Wing (Black Ace) | B15: 76 | C15: 0 | D15: 0
A16: T-70 X Wing (Red Squadron Expert) | B16: 72 | C16: 0 | D16: 0
A17: T-70 X wing (Blue Squadron Rookie) | B17: 63 | C17: 0 | D17: =B17*C17 -> 0
A18: Paige Tico | B18: 80 | C18: 0 | D18: =B18*C18 -> 0
A19: Finch Dallow | B19: 87 | C19: 0 | D19: =B19*C19 -> 0
A20: Ben Teene | B20: 80 | C20: 0 | D20: =B20*C20 -> 0
A21: Edon Kappehl | B21: 81 | C21: 0 | D21: =B21*C21 -> 0
A22: Vennie | B22: 80 | C22: 0 | D22: =B22*C22 -> 0
A23: Cat | B23: 79 | C23: 0 | D23: =B23*C23 -> 0
A24: MG-100 StarFortress | B24: 78 | C24: 0 | D24: =B24*C24 -> 0
A25: Han Solo | B25: 104 | C25: 0 | D25: =B25*C25 -> 0
A26: Modified YT-1300 | B26: 85 | C26: 0 | D26: =B26*C26 -> 0
A27: R1-J5 | B27: 0 | C27: 0 | D27: =B27*C27 -> 0
A28: Jarek Yeager | B28: 0 | C28: 0 | D28: =B28*C28 -> 0
... A60: Ronith Blario | B60: 45 | C60: 0 | D60: =B60*C60 -> 0
A61: A Wing (Green Squadron Expert) | B61: 47 | C61: 0 | D61: 0
A62: A Wing (Blue Squadron Recruit) | B62: 43 | C62: 0 | D62: =B62*C62 -> 0

Sheet First Order
A1: Ship/Hero | B1: Cost as in book | C1: Quantity | D1: Total Cost | E1: First Order Points
A2: Midnight | B2: 42 | C2: 0 | D2: =B2*C2 -> 0 | E2: =SUM(D2:D120) -> 0
A3: Commander Malarus | B3: 41 | C3: 0 | D3: =B3*C3 -> 0 | E3: Ships
A4: Lieutenant Galek | B4: 39 | C4: 0 | D4: =B4*C4 -> 0 | E4: =SUM(C2:C120) -> 0
A5: Scorch (TIE/fo) | B5: 40 | C5: 0 | D5: =B5*C5 -> 0 | E5: Epic Ships
A6: DT-798 | B6: 34 | C6: 0 | D6: =B6*C6 -> 0 | E6: 0
A7: Static | B7: 37 | C7: 0 | D7: =B7*C7 -> 0
A8: Muse | B8: 36 | C8: 0 | D8: =B8*C8 -> 0
A9: Longshot | B9: 37 | C9: 0 | D9: =B9*C9 -> 0
A10: Lin Gaava | B10: 39 | C10: 0 | D10: =B10*C10 -> 0
A11: TN-3456 | B11: 32 | C11: 0 | D11: =B11*C11 -> 0
A12: Lietenant Rivas | B12: 32 | C12: 0 | D12: =B12*C12 -> 0
A13: Null | B13: 33 | C13: 0 | D13: =B13*C13 -> 0
A14: Omega Squadron Ace (TIE/fo) | B14: 35 | C14: 0 | D14: =B14*C14 -> 0
A15: Zeta Squadron Pilot (TIE/fo) | B15: 31 | C15: 0 | D15: =B15*C15 -> 0
A16: Epsilon Squadron Cadet (TIE/fo) | B16: 30 | C16: 0 | D16: =B16*C16 -> 0
A17: Quickdraw | B17: 70 | C17: 0 | D17: =B17*C17 -> 0
A18: Lieutenant LeHuse | B18: 65 | C18: 0 | D18: =B18*C18 -> 0
... A57: Upsilon-Class Command Shuttle | B57: 81 | C57: 0 | D57: =B57*C57 -> 0

Sheet Scum
A1: Ship/Hero | B1: Cost as in book | C1: Quantity | D1: Total Cost | E1: Scum Points
A2: IG-88A | B2: 86 | C2: 0 | D2: =B2*C2 -> 0 | E2: =SUM(D2:D120) -> 0
A3: IG-88B | B3: 83 | C3: 0 | D3: =B3*C3 -> 0 | E3: Ships
A4: IG-88C | B4: 84 | C4: 0 | D4: =B4*C4 -> 0 | E4: =SUM(C37:C120) -> 0
A5: IG-88D | B5: 83 | C5: 0 | D5: =B5*C5 -> 0 | E5: Epic Ships
A6: Kavil | B6: 65 | C6: 0 | D6: =B6*C6 -> 0 | E6: 0
A7: Leema Kai | B7: 60 | C7: 0 | D7: =B7*C7 -> 0
A8: Drea Renthal | B8: 69 | C8: 0 | D8: =B8*C8 -> 0
A9: Arliz Hadrassian | B9: 58 | C9: 0 | D9: =B9*C9 -> 0
A10: Padric | B10: 55 | C10: 0 | D10: =B10*C10 -> 0
A11: Amaxine Warrior (Y-Wing) | B11: 54 | C11: 0 | D11: =B11*C11 -> 0
A12: Hired Gun (Y-Wing) | B12: 53 | C12: 0 | D12: =B12*C12 -> 0
A13: Jinata Security Officer (Y-Wing) | B13: 50 | C13: 0 | D13: =B13*C13 -> 0
A14: Crymorah Goon (Y-Wing) | B14: 50 | C14: 0 | D14: =B14*C14 -> 0
A15: Han Solo/Lando | B15: 115 | C15: 0 | D15: =B15*C15 -> 0
A16: Customized YT-1300/Pod | B16: 99 | C16: 0 | D16: =B16*C16 -> 0
A17: Renn Rau | B17: 76 | C17: 0 | D17: =B17*C17 -> 0
A18: Old Teroch | B18: 64 | C18: 0 | D18: =B18*C18 -> 0
... A117: Binaryre Pirate (Z-95) | B117: 22 | C117: 0 | D117: =B117*C117 -> 0
