Workbook

Sheet Collection Overview
A1: Net Total Miniatures | B1: Net Total Points
A2: =SUM(A4:A1006) -> 0 | B2: =SUM(B4:B1006) -> 0
A3: Total Old Republic Miniatures | B3: Total Old Republic Points
A4: =Old_Republic!A2 -> 0 | B4: =Old_Republic!B2 -> 0
A5: Total Sith Empire Miniatures | B5: Total Sith Empire Points
A6: =Sith_Empire!A2 -> 0 | B6: =Sith_Empire!B2 -> 0
A7: Total Republic Miniatures | B7: Total Republic Points | C7: Gungan Miniatures | D7: Gungan Points | E7: Naboo Miniatures | F7: Naboo Points | G7: Jedi Miniatures | H7: Jedi Points | I7: Clone Miniatures | J7: Clone Points | K7: Alderaan Miniatures | L7: Alderaan Points | M7: Militia Miniatures | N7: Militia Points
A8: =Republic!A2 -> 0 | B8: =Republic!B2 -> 0 | C8: =Republic!E4 -> 0 | D8: =Republic!F4 -> 0 | E8: =Republic!E13 -> 0 | F8: =Republic!F13 -> 0 | G8: =Republic!E23 -> 0 | H8: =Republic!F23 -> 0 | I8: =Republic!E85 -> 0 | J8: =Republic!F85 -> 0 | K8: =Republic!E135 -> 0 | L8: =Republic!F135 -> 0 | M8: =Republic!E141 -> 0 | N8: =Republic!F141 -> 0
A9: Total Separatists Miniatures | B9: Total Separatist Points | C9: Trade Federation Miniatures | D9: Trade Federation Points | E9: Sith Miniatures | F9: Sith Points | G9: Bounty Hunter Miniatures | H9: Bounty Hunter Points | I9: Geonosian Miniatures | J9: Geonosian Points
A10: =Separatists!A2 -> 0 | B10: =Separatists!B2 -> 0 | C10: =Separatists!E4 -> 0 | D10: =Separatists!F4 -> 0 | E10: =Separatists!E47 -> 0 | F10: =Separatists!F47 -> 0 | G10: =Separatists!E74 -> 0 | H10: =Separatists!F74 -> 0 | I10: =Separatists!E87 -> 0 | J10: =Separatists!F87 -> 0
A11: Total Rebel Miniatures | B11: Total Rebel Points
A12: =Rebel_Alliance!A2 -> 0 | B12: =Rebel_Alliance!B2 -> 0
A13: Total Imperial Miniatures | B13: Total Rebel Points | C13: Night Sister Miniatures | D13: Night Sister Points
A14: =Empire!A2 -> 0 | B14: =Empire!B2 -> 0 | C14: =Empire!E117 -> 0 | D14: =Empire!F117 -> 0
A15: Total Scum Miniatures | B15: Total Scum Points | C15: Nuetral Miniatures | D15: Nuetral Points
A16: =Scum!A2 -> 0 | B16: =Scum!B2 -> 0 | C16: =Scum!E7 -> 0 | D16: =Scum!F7 -> 0
A17: Total Mandalorian Miniatures | B17: Total Mandalorian Points
A18: =Mandalorian!A2 -> 0 | B18: =Mandalorian!B2 -> 0
A19: Total Yuuzhan Vong Miniatures | B19: Total Yuuzhan Vong Points
A20: =Yuuzhan_Vong!A2 -> 0 | B20: =Yuuzhan_Vong!B2 -> 0

Sheet Old_Republic
A1: Total Old Republic Miniatures | B1: Total Old Republic Points
A2: =SUM(E4:E1067) -> 0 | B2: =SUM(F4:F1067) -> 0
A3: Old Republic | B3: Old Republic Miniatures | C3: Old Republic Points | D3: Total Points | E3: Total Old Republic Miniatures | F3: Total Old Republic Points
A4: Bastila Shan | B4: 0 | C4: 46 | D4: =SUM(B4*C4) -> 0 | E4: =SUM(B4:B997) -> 0 | F4: =SUM(D4:D997) -> 0
A5: Canderous Ordo | B5: 0 | C5: 48 | D5: =SUM(B5*C5) -> 0
A6: Carth Onasi | B6: 0 | C6: 37 | D6: =SUM(B6*C6) -> 0
A7: HK-47 | B7: 0 | C7: 32 | D7: =SUM(B7*C7) -> 0
A8: Jolee Bindo | B8: 0 | C8: 23 | D8: =SUM(B8*C8) -> 0
A9: Juhani | B9: 0 | C9: 25 | D9: =SUM(B9*C9) -> 0
A10: Mission Vao | B10: 0 | C10: 27 | D10: =SUM(B10*C10) -> 0
A11: T3-M4 | B11: 0 | C11: 17 | D11: =SUM(B11*C11) -> 0
A12: Zaalbar | B12: 0 | C12: 29 | D12: =SUM(B12*C12) -> 0
A14: Atton Rand | B14: 0 | C14: 26 | D14: =SUM(B14*C14) -> 0
A15: Bao-Dur | B15: 0 | C15: 33 | D15: =SUM(B15*C15) -> 0
A16: Cay Qel-Droma | B16: 0 | C16: 28 | D16: =SUM(B16*C16) -> 0
A17: Kreia | B17: 0 | C17: 43 | D17: =SUM(B17*C17) -> 0
... A45: Juggernaut War Droid | B45: 0 | C45: 16 | D45: =SUM(B45*C45) -> 0

Sheet Sith_Empire
A1: Total Sith Empire Miniatures | B1: Total Sith Empire Points
A2: =E4 -> 0 | B2: =F4 -> 0
A3: Sith Empire | B3: Sith Empire Miniatures | C3: Sith Empire Points | D3: Total Points | E3: Total Sith Empire Miniatures | F3: Total Sith Empire Points
A4: Darth Bane | B4: 0 | C4: 82 | D4: =SUM(B4*C4) -> 0 | E4: =SUM(B4:B1000) -> 0 | F4: =SUM(D4:D1000) -> 0
A5: Darth Malak | B5: 0 | C5: 52 | D5: =SUM(B5*C5) -> 0
A6: Darth Malak, Dark Lord of the Sith | B6: 0 | C6: 49 | D6: =SUM(B6*C6) -> 0
A7: Darth Nihlus | B7: 0 | C7: 44 | D7: =SUM(B7*C7) -> 0
A8: Darth Revan | B8: 0 | C8: 88 | D8: =SUM(B8*C8) -> 0
A9: Darth Sion | B9: 0 | C9: 69 | D9: =SUM(B9*C9) -> 0
A10: Exar Kun | B10: 0 | C10: 84 | D10: =SUM(B10*C10) -> 0
A11: Freedon Nadd | B11: 0 | C11: 55 | D11: =SUM(B11*C11) -> 0
A12: Naga Sadow | B12: 0 | C12: 64 | D12: =SUM(B12*C12) -> 0
A13: Ulic Qel-Droma | B13: 0 | C13: 61 | D13: =SUM(B13*C13) -> 0
A15: Dark Jedi Master | B15: 0 | C15: 29 | D15: =SUM(B15*C15) -> 0
A16: Sith Lord | B16: 0 | C16: 23 | D16: =SUM(B16*C16) -> 0
A17: Sith Trooper Captain | B17: 0 | C17: 20 | D17: =SUM(B17*C17) -> 0
... A36: Sith Heavy Assault Droid | B36: 0 | C36: 49 | D36: =SUM(B36*C36) -> 0

Sheet Republic
A1: Total Republic Miniatures | B1: Total Republic Points
A2: =SUM(E4:E989) -> 0 | B2: =SUM(F4:F1106) -> 0
A3: Gungan | B3: Gungan Miniatures | C3: Gungan Points | D3: Total Points | E3: Total Gungan Miniatures | F3: Total Gungan Points
A4: Jar Jar Binks | B4: 0 | C4: 18 | D4: =SUM(B4*C4) -> 0 | E4: =SUM(B5:B10) -> 0 | F4: =SUM(D5:D10) -> 0
A5: Captain Tarpals | B5: 0 | C5: 20 | D5: =SUM(B5*C5) -> 0
A6: Gungan Infantry | B6: 0 | C6: 9 | D6: =SUM(B6*C6) -> 0
A7: Gungan Soldier | B7: 0 | C7: 9 | D7: =SUM(B7*C7) -> 0
A8: Gungan Shield Bearer | B8: 0 | C8: 18 | D8: =SUM(B8*C8) -> 0
A9: Gungan Artillerist | B9: 0 | C9: 11 | D9: =SUM(B9*C9) -> 0
A10: Kaadu | B10: 0 | C10: 18 | D10: =SUM(B10*C10) -> 0
A12: Naboo | B12: Naboo Miniatures | C12: Naboo Points | D12: Total Points | E12: Total Naboo Miniatures | F12: Total Naboo Points
A13: Captain Panaka | B13: 0 | C13: 23 | D13: =SUM(B13*C13) -> 0 | E13: =SUM(B13:B20) -> 0 | F13: =SUM(D13:D20) -> 0
A14: Captain Typho | B14: 0 | C14: 18 | D14: =SUM(B14*C14) -> 0
A15: Padme Amidala | B15: 0 | C15: 15 | D15: =SUM(B15*C15) -> 0
A16: Queen Amidala | B16: 0 | C16: 16 | D16: =SUM(B16*C16) -> 0
A17: Padme Amidala, Senator | B17: 0 | C17: 23 | D17: =SUM(B17*C17) -> 0
A18: R2-D2, Astromech Droid | B18: 0 | C18: 9 | D18: =SUM(B18*C18) -> 0
A19: Naboo Soldier | B19: 0 | C19: 5 | D19: =SUM(B19*C19) -> 0
A20: Flash Speeder | B20: 0 | C20: 41 | D20: =SUM(B20*C20) -> 0
A22: Jedi | B22: Jedi Miniatures | C22: Jedi Points | D22: Total Points | E22: Total Jedi Miniatures | F22: Total Jedi Points
A23: Aayla Secura | B23: 0 | C23: 27 | D23: =SUM(B23*C23) -> 0 | E23: =SUM(B23:B82) -> 0 | F23: =SUM(D23:D82) -> 0
A24: General Aayla Secura | B24: 0 | C24: 50 | D24: =SUM(B24*C24) -> 0
A25: Agen Kolar | B25: 0 | C25: 29 | D25: =SUM(B25*C25) -> 0
A26: Agen Kolar, Jedi Master | B26: 0 | C26: 32 | D26: =SUM(B26*C26) -> 0
A27: Ahsoka Tano | B27: 0 | C27: 20 | D27: =SUM(B27*C27) -> 0
A28: Commander Ahsoka | B28: 0 | C28: 24 | D28: =SUM(B28*C28) -> 0
A29: Anakin Skywalker | B29: 0 | C29: 25 | D29: =SUM(B29*C29) -> 0
A30: Anakin Skywalker, Jedi Knight | B30: 0 | C30: 29 | D30: =SUM(B30*C30) -> 0
A31: Anakin Skywalker on STAP | B31: 0 | C31: 35 | D31: =SUM(B31*C31) -> 0
A32: Anakin Skywalker, Champion of Nelvaan | B32: 0 | C32: 49 | D32: =SUM(B32*C32) -> 0
A33: General Skywalker | B33: 0 | C33: 47 | D33: =SUM(B33*C33) -> 0
A35: Barriss Offee | B35: 0 | C35: 17 | D35: =SUM(B35*C35) -> 0
A36: Barriss Offee, Jedi Knight | B36: 0 | C36: 30 | D36: =SUM(B36*C36) -> 0
... A53: Obi-Wan Kenobi, Padawan | B53: 0 | C53: 22 | D53: =SUM(B53*C53) -> 0
A54: General Kenobi | B54: 0 | C54: 36 | D54: =SUM(B54*C54) -> 0 | E54: =SUM(B54:B99) -> 0 | F54: =SUM(D54:D99) -> 0
A55: Obi-Wan Kenobi on Boga | B55: 0 | C55: 41 | D55: =SUM(B55*C55) -> 0
A56: Obi-Wan Kenobi, Jedi General | B56: 0 | C56: 66 | D56: =SUM(B56*C56) -> 0
A57: Obi-Wan Kenobi, Jedi Master | B57: 0 | C57: 42 | D57: =SUM(B57*C57) -> 0
A58: General Obi-Wan Kenobi | B58: 0 | C58: 55 | D58: =SUM(B58*C58) -> 0
A59: Qui-Gon Jinn, Jedi Trainer | B59: 0 | C59: 24 | D59: =SUM(B59*C59) -> 0
...

Sheet Separatists
A1: Total Separatists Miniatures | B1: Total Separatist Points
A2: =SUM(E4:E1053) -> 0 | B2: =SUM(F4:F1053) -> 0
A3: Droid | B3: Droid Miniatures | C3: Droid Points | D3: Total Points | E3: Total Droid Miniatures | F3: Total Droid Points
A4: Nute Gunray | B4: 0 | C4: 30 | D4: =SUM(B4*C4) -> 0 | E4: =SUM(B4:B44) -> 0 | F4: =SUM(D4:D44) -> 0
A5: Captain Mar Tuuk | B5: 0 | C5: 14 | D5: =SUM(B5*C5) -> 0
A6: San Hill | B6: 0 | C6: 10 | D6: =SUM(B6*C6) -> 0
A7: Wat Tambor | B7: 0 | C7: 35 | D7: =SUM(B7*C7) -> 0
A8: Wat Tambor, Techno Union Foreman | B8: 0 | C8: 43 | D8: =SUM(B8*C8) -> 0
A9: General Whorm Loathsom | B9: 0 | C9: 20 | D9: =SUM(B9*C9) -> 0
A11: A4-Series Lab Droid | B11: 0 | C11: 16 | D11: =SUM(B11*C11) -> 0
A12: Battle Droid Officer | B12: 0 | C12: 9 | D12: =SUM(B12*C12) -> 0
A13: Commando Droid Captain | B13: 0 | C13: 24 | D13: =SUM(B13*C13) -> 0
A14: Super Battle Droid Commander | B14: 0 | C14: 19 | D14: =SUM(B14*C14) -> 0
A16: Bodyguard Droid | B16: 0 | C16: 20 | D16: =SUM(B16*C16) -> 0
A17: EG-05 Jedi Hunter Droid | B17: 0 | C17: 27 | D17: =SUM(B17*C17) -> 0
A18: IG-100 Magna Guard | B18: 0 | C18: 16 | D18: =SUM(B18*C18) -> 0
... A34: Battle Droid on STAP | B34: 0 | C34: 16 | D34: =SUM(B34*C34) -> 0
A35: IG Lancer Droid | B35: 0 | D35: =SUM(B35*C35) -> 0
A37: B3 Ultra Battle Droid | B37: 0 | C37: 32 | D37: =SUM(B37*C37) -> 0
A38: Commerce Guild Homing Spider Droid | B38: 0 | C38: 32 | D38: =SUM(B38*C38) -> 0
A39: Corporate Alliance Tank Droid | B39: 0 | C39: 45 | D39: =SUM(B39*C39) -> 0
A40: Droid Starfighter in Walking Mode | B40: 0 | C40: 48 | D40: =SUM(B40*C40) -> 0
A41: Hailfire Droid | B41: 0 | C41: 36 | D41: =SUM(B41*C41) -> 0
A42: Heavy Super Battle Droid | B42: 0 | C42: 14 | D42: =SUM(B42*C42) -> 0
A43: Huge Crab Droid | B43: 0 | C43: 39 | D43: =SUM(B43*C43) -> 0
A44: LR-57 Combat Droid | B44: 0 | C44: 30 | D44: =SUM(B44*C44) -> 0
A46: Sith | B46: Sith Miniatures | C46: Sith Points | D46: Total Points | E46: Total Sith Miniatures | F46: Total Sith Points
A47: Asajj Ventress | B47: 0 | C47: 34 | D47: =SUM(B47*C47) -> 0 | E47: =SUM(B47:B71) -> 0 | F47: =SUM(D47:D71) -> 0
A48: Asajj Ventress, Separatist Assassin | B48: 0 | C48: 43 | D48: =SUM(B48*C48) -> 0
A49: Asajj Ventress, Strike Leader | B49: 0 | C49: 57 | D49: =SUM(B49*C49) -> 0
A50: Darth Tyranus | B50: 0 | C50: 48 | D50: =SUM(B50*C50) -> 0
A51: Darth Tyranus, Legacy of the Dark Side | B51: 0 | C51: 49 | D51: =SUM(B51*C51) -> 0
A52: Count Dooku | B52: 0 | C52: 52 | D52: =SUM(B52*C52) -> 0
A53: Grievous, Kaleesh Warlord | B53: 0 | C53: 22 | D53: =SUM(B53*C53) -> 0
A54: General Grievous | B54: 0 | C54: 44 | D54: =SUM(B54*C54) -> 0
A55: General Grievous, Jedi Hunter | B55: 0 | C55: 42 | D55: =SUM(B55*C55) -> 0
A56: General Grievous, Supreme Commander | B56: 0 | C56: 43 | D56: =SUM(B56*C56) -> 0
A57: General Grevious, Scourge of the Jedi | B57: 0 | C57: 63 | D57: =SUM(B57*C57) -> 0
A58: General Grievous's Wheel Bike | B58: 0 | C58: 58 | D58: =SUM(B58*C58) -> 0
A59: General Grevious, Driod Army Commander | B59: 0 | C59: 57 | D59: =SUM(B59*C59) -> 0
...

Sheet Rebel_Alliance
A1: Total Rebel Miniatures | B1: Total Rebel Points
A2: =SUM(E4:E1132) -> 0 | B2: =SUM(F4:F1132) -> 0
A3: Rebel | B3: Rebel Miniatures | C3: Rebel Points | D3: Total Points | E3: Total Rebel Miniatures | F3: Total Rebel Points
A4: 2-1B | B4: 0 | C4: 17 | D4: =SUM(B4*C4) -> 0 | E4: =SUM(B4:B149) -> 0 | F4: =SUM(D4:D149) -> 0
A5: Admiral Ackbar | B5: 0 | C5: 21 | D5: =SUM(B5*C5) -> 0
A6: Anakin Skywalker, Force Spirit | B6: 0 | C6: 12 | D6: =SUM(B6*C6) -> 0
A7: Biggs Darklighter | B7: 0 | C7: 26 | D7: =SUM(B7*C7) -> 0
A8: C-3P0 | B8: 0 | C8: 6 | D8: =SUM(B8*C8) -> 0
A9: C-3P0 and R2-D2 | B9: 0 | C9: 18 | D9: =SUM(B9*C9) -> 0
A10: C-3P0, Ewok Deity | B10: 0 | C10: 5 | D10: =SUM(B10*C10) -> 0
A11: Chewbacca | B11: 0 | C11: 24 | D11: =SUM(B11*C11) -> 0
A12: Chewbacca with C-3P0 | B12: 0 | C12: 31 | D12: =SUM(B12*C12) -> 0
A13: Chewbacca, Rebel Hero | B13: 0 | C13: 30 | D13: =SUM(B13*C13) -> 0
A14: Chewbacca of Hoth | B14: 0 | C14: 22 | D14: =SUM(B14*C14) -> 0
A15: Chewbacca, Fearless Scout | B15: 0 | C15: 23 | D15: =SUM(B15*C15) -> 0
A16: Chewbacca, Enraged Wookie | B16: 0 | C16: 34 | D16: =SUM(B16*C16) -> 0
... A36: Lando Calrissian, Rebel Leader | B36: 0 | C36: 34 | D36: =SUM(B36*C36) -> 0
A37: Leia Organa, Senator | B37: 0 | D37: =SUM(B37*C37) -> 0
A38: Princess Leia, Senator | B38: 0 | C38: 13 | D38: =SUM(B38*C38) -> 0
A39: Princess Leia, Hoth Commander | B39: 0 | C39: 19 | D39: =SUM(B39*C39) -> 0
A40: Princess Leia of Cloud City | B40: 0 | C40: 14 | D40: =SUM(B40*C40) -> 0
A41: Leia, Bounty Hunter | B41: 0 | C41: 26 | D41: =SUM(B41*C41) -> 0
A42: Princess Leia, Captive | B42: 0 | C42: 13 | D42: =SUM(B42*C42) -> 0
A43: Princess Leia, Rebel Hero | B43: 0 | C43: 14 | D43: =SUM(B43*C43) -> 0
A44: Princess Leia | B44: 0 | C44: 20 | D44: =SUM(B44*C44) -> 0
A45: Leia Organa Solo, Jedi Knight | B45: 0 | C45: 40 | D45: =SUM(B45*C45) -> 0
A46: Luke's Landspeeder | B46: 0 | C46: 47 | D46: =SUM(B46*C46) -> 0
A47: Luke Skywalker, Rebel | B47: 0 | C47: 17 | D47: =SUM(B47*C47) -> 0
A48: Luke Skywalker, Hero of Yavin | B48: 0 | C48: 35 | D48: =SUM(B48*C48) -> 0
A49: Luke Skywalker on Tauntaun | B49: 0 | C49: 16 | D49: =SUM(B49*C49) -> 0
... A149: Rebel Vanguard | B149: 0 | C149: 11 | D149: =SUM(B149*C149) -> 0

Sheet Empire
A1: Total Imperial Miniatures | B1: Total Rebel Points
A2: =SUM(E4:E1093) -> 0 | B2: =SUM(F4:F1093) -> 0
A3: Imperial | B3: Imperial Miniatures | C3: Imperial Points | D3: Total Points | E3: Total Imperial Miniatures | F3: Total Imperial Points
A4: Anakin Skywalker, Sith Apprentice | B4: 0 | C4: 39 | D4: =SUM(B4*C4) -> 0 | E4: =SUM(B4:B114) -> 0 | F4: =SUM(D4:D114) -> 0
A5: Darth Vader, Sith Apprentice | B5: 0 | C5: 46 | D5: =SUM(B5*C5) -> 0
A6: Darth Vader | B6: 0 | C6: 47 | D6: =SUM(B6*C6) -> 0
A7: Darth Vader, Champion of the Sith | B7: 0 | C7: 50 | D7: =SUM(B7*C7) -> 0
A8: Darth Vader, Unleashed | B8: 0 | C8: 50 | D8: =SUM(B8*C8) -> 0
A9: Darth Vader, Imperial Commander | B9: 0 | C9: 53 | D9: =SUM(B9*C9) -> 0
A10: Darth Vader, Dark Jedi | B10: 0 | C10: 55 | D10: =SUM(B10*C10) -> 0
A11: Darth Vader, Scourge of the Jedi | B11: 0 | C11: 55 | D11: =SUM(B11*C11) -> 0
A12: Darth Vader, Sith Lord | B12: 0 | C12: 60 | D12: =SUM(B12*C12) -> 0
A13: Darth Vader, Jedi Hunter | B13: 0 | C13: 75 | D13: =SUM(B13*C13) -> 0
A14: Lord Vader | B14: 0 | C14: 71 | D14: =SUM(B14*C14) -> 0
A15: Darth Vader, Legacy of the Force | B15: 0 | C15: 71 | D15: =SUM(B15*C15) -> 0
A16: Arden Lyn | B16: 0 | C16: 18 | D16: =SUM(B16*C16) -> 0
... A18: Blizzard Scout 1 | B18: 0 | C18: 54 | D18: =SUM(B18*C18) -> 0
A19: Emperor's Hand | B19: 0 | D19: =SUM(B19*C19) -> 0
A20: Emperor Palpatine | B20: 0 | C20: 40 | D20: =SUM(B20*C20) -> 0
A21: Emperor Palpatine on Throne | B21: 0 | C21: 33 | D21: =SUM(B21*C21) -> 0
A22: Emperor Palpatine, Sith Lord | B22: 0 | C22: 62 | D22: =SUM(B22*C22) -> 0
A23: Moff Jerjerrod | B23: 0 | C23: 12 | D23: =SUM(B23*C23) -> 0
A24: Kir Kanos | B24: 0 | C24: 34 | D24: =SUM(B24*C24) -> 0
A25: Mara Jade, Emperor's Hand | B25: 0 | C25: 20 | D25: =SUM(B25*C25) -> 0
A26: Grand Moff Tarkin | B26: 0 | C26: 11 | D26: =SUM(B26*C26) -> 0
A27: Imperial Governor Tarkin | B27: 0 | C27: 22 | D27: =SUM(B27*C27) -> 0
A28: Admiral Ozzel | B28: 0 | C28: 11 | D28: =SUM(B28*C28) -> 0
A29: Admiral Piett | B29: 0 | C29: 20 | D29: =SUM(B29*C29) -> 0
A30: Vader's Apprentice, Unleashed | B30: 0 | C30: 48 | D30: =SUM(B30*C30) -> 0
A31: Grand Admiral Thrawn | B31: 0 | C31: 37 | D31: =SUM(B31*C31) -> 0
... A114: AT-AT Imperial Walker | B114: 0 | C114: 200 | D114: =SUM(B114*C114) -> 0
A116: Nightsister | B116: Night Sister Miniatures | C116: Night Sister Points | D116: Total Points | E116: Total Night Sister Miniatures | F116: Total Night Sister Points
A117: Nightsister Sith Witch | B117: 0 | C117: 17 | D117: =SUM(B117*C117) -> 0 | E117: =SUM(B117:B117) -> 0 | F117: =SUM(D117:D117) -> 0

Sheet Scum
A1: Total Scum Miniatures | B1: Total Scum Points
A2: =SUM(E4:E1240) -> 0 | B2: =SUM(F4:F1240) -> 0
A3: Nuetral | B3: Nuetral Miniatures | C3: Nuetral Points | D3: Total Points | E3: Total Nuetral Miniatures | F3: Total Nuetral Points
A4: Sly Moore | B4: 0 | C4: 28 | D4: =SUM(B4*C4) -> 0 | E4: =SUM(B4:B16) -> 0 | F4: =SUM(D4:D16) -> 0
A5: Tion Medon | B5: 0 | C5: 22 | D5: =SUM(B5*C5) -> 0
A7: ASP-7 | B7: 0 | C7: 10 | D7: =SUM(B7*C7) -> 0
A8: Gonk Power Droid | B8: 0 | C8: 12 | D8: =SUM(B8*C8) -> 0
A9: Medical Droid | B9: 0 | C9: 12 | D9: =SUM(B9*C9) -> 0
A10: R4 Astromech Droid | B10: 0 | C10: 8 | D10: =SUM(B10*C10) -> 0
A11: R5 Astromech Droid | B11: 0 | C11: 8 | D11: =SUM(B11*C11) -> 0
A12: R7 Astromech Droid | B12: 0 | C12: 8 | D12: =SUM(B12*C12) -> 0
A13: Treadwell Droid | B13: 0 | C13: 10 | D13: =SUM(B13*C13) -> 0
A14: Utapaun Soldier | B14: 0 | C14: 10 | D14: =SUM(B14*C14) -> 0
A15: Utapaun Warrior | B15: 0 | C15: 14 | D15: =SUM(B15*C15) -> 0
A16: Utapaun on Dactillion | B16: 0 | C16: 27 | D16: =SUM(B16*C16) -> 0
A18: Cloud City | B18: Cloud City Miniatures | C18: Cloud City Points | D18: Total Points | E18: Total Cloud City Miniatures | F18: Total Cloud City Points
A19: Lando Calrissian | B19: 0 | C19: 16 | D19: =SUM(B19*C19) -> 0 | E19: =SUM(B19:B26) -> 0 | F19: =SUM(D19:D26) -> 0
A20: Lando Calrissian, Dashing Scoundrel | B20: 0 | C20: 18 | D20: =SUM(B20*C20) -> 0
A21: Lando Calrissian, Hero of Taanab | B21: 0 | C21: 23 | D21: =SUM(B21*C21) -> 0
A22: Tamtel Skreej (Lando Calrissian) | B22: 0 | C22: 23 | D22: =SUM(B22*C22) -> 0
A23: Lobot, Computer Liaison Officer | B23: 0 | C23: 15 | D23: =SUM(B23*C23) -> 0
A24: Lobot | B24: 0 | C24: 27 | D24: =SUM(B24*C24) -> 0
A25: Bespin Guard | B25: 0 | C25: 5 | D25: =SUM(B25*C25) -> 0
A26: Cloud Car Pilot | B26: 0 | C26: 8 | D26: =SUM(B26*C26) -> 0
A28: Bounty Hunter/Pirate | B28: Bounty Hunter Miniatures | C28: Bounty Hunter Points | D28: Total Points | E28: Total Bounty Hunter Miniatures | F28: Total Bounty Hunter Points
A29: 4-LOM | B29: 0 | C29: 21 | D29: =SUM(B29*C29) -> 0 | E29: =SUM(B29:B187) -> 0 | F29: =SUM(D29:D187) -> 0
A30: 4-LOM. Bounty Hunter | B30: 0 | C30: 33 | D30: =SUM(B30*C30) -> 0
A31: 4-LOM, Droid Mercenary | B31: 0 | C31: 35 | D31: =SUM(B31*C31) -> 0
A32: Aurra Sing | B32: 0 | C32: 37 | D32: =SUM(B32*C32) -> 0
A33: Ayy Vida | B33: 0 | C33: 19 | D33: =SUM(B33*C33) -> 0
A34: Bib Fortuna | B34: 0 | C34: 8 | D34: =SUM(B34*C34) -> 0
A35: Boba Fett, Young Mercenary | B35: 0 | C35: 17 | D35: =SUM(B35*C35) -> 0
A36: Boba Fett, Enforcer | B36: 0 | C36: 38 | D36: =SUM(B36*C36) -> 0
A37: Boba Fett | B37: 0 | C37: 50 | D37: =SUM(B37*C37) -> 0
A38: Boba Fett, Mercenary | B38: 0 | C38: 58 | D38: =SUM(B38*C38) -> 0
A39: Boba Fett, Bounty Hunter | B39: 0 | C39: 62 | D39: =SUM(B39*C39) -> 0
A40: Bomo Greenbark | B40: 0 | C40: 18 | D40: =SUM(B40*C40) -> 0
A41: Bossk | B41: 0 | C41: 17 | D41: =SUM(B41*C41) -> 0
... A187: X-1 Viper Droid | B187: 0 | C187: 46 | D187: =SUM(B187*C187) -> 0
A189: Ewok | B189: Ewok Miniatures | C189: Ewok Points | D189: Total Points | E189: Total Ewok Miniatures | F189: Total Ewok Points
...

Sheet Mandalorian
A1: Total Mandalorian Miniatures | B1: Total Mandalorian Points
A2: =SUM(E4:E1124) -> 0 | B2: =SUM(F4:F1124) -> 0
A3: Madalorian | B3: Mandalorian Miniatures | C3: Mandalorian Points | D3: Total Points | E3: Total Mandolorian Miniatures | F3: Total Mandolorian Points
A4: Boba Fett, Mercenary Commander | B4: 0 | C4: 57 | D4: =SUM(B4*C4) -> 0 | E4: =SUM(B4:B27) -> 0 | F4: =SUM(D4:D27) -> 0
A5: Mandalore the Indomitable | B5: 0 | C5: 68 | D5: =SUM(B5*C5) -> 0
A6: Mandalore the Ultimate | B6: 0 | C6: 75 | D6: =SUM(B6*C6) -> 0
A8: Mandalorian Captain | B8: 0 | C8: 23 | D8: =SUM(B8*C8) -> 0
A9: Mandalorian Commander | B9: 0 | C9: 28 | D9: =SUM(B9*C9) -> 0
A10: Mandalorian Quartermaster | B10: 0 | C10: 26 | D10: =SUM(B10*C10) -> 0
A12: Mandalorian Jedi Hunter | B12: 0 | C12: 24 | D12: =SUM(B12*C12) -> 0
A14: Mandalorian Blademaster | B14: 0 | C14: 18 | D14: =SUM(B14*C14) -> 0
A15: Mandalorian Soldier | B15: 0 | C15: 16 | D15: =SUM(B15*C15) -> 0
A16: Mandalorian Warrior | B16: 0 | C16: 14 | D16: =SUM(B16*C16) -> 0
A18: Death Watch Raider | B18: 0 | C18: 15 | D18: =SUM(B18*C18) -> 0
A19: Mandalorian Commando | B19: 0 | C19: 13 | D19: =SUM(B19*C19) -> 0
A20: Mandalorian Gunslinger | B20: 0 | C20: 17 | D20: =SUM(B20*C20) -> 0
A21: Mandalorian Marauder | B21: 0 | D21: =SUM(B21*C21) -> 0
A22: Mandalorian Scout | B22: 0 | C22: 19 | D22: =SUM(B22*C22) -> 0
A23: Mandalorian Supercommando | B23: 0 | C23: 23 | D23: =SUM(B23*C23) -> 0
A24: Mandalorian Trooper | B24: 0 | C24: 14 | D24: =SUM(B24*C24) -> 0
A25: Taung Warrior | B25: 0 | C25: 8 | D25: =SUM(B25*C25) -> 0
A27: Basilisk War Droid | B27: 0 | C27: 51 | D27: =SUM(B27*C27) -> 0

Sheet Yuuzhan_Vong
A1: Total Yuuzhan Vong Miniatures | B1: Total Yuuzhan Vong Points
A2: =SUM(E4:E1032) -> 0 | B2: =SUM(F4:F1032) -> 0
A3: Yuuzhan Vong | B3: Yuuzhan Vong Miniatures | C3: Yuuzhan Vong Points | D3: Total Points | E3: Total Yuuzhan Vong Miniatures | F3: Total Yuuzhan Vong Points
A4: Nom Anor | B4: 0 | C4: 34 | D4: =SUM(B4*C4) -> 0 | E4: =SUM(B4:B22) -> 0 | F4: =SUM(D4:D22) -> 0
A5: Warmaster Tzavong Lah | B5: 0 | C5: 63 | D5: =SUM(B5*C5) -> 0
A6: Yomin Carr | B6: 0 | C6: 19 | D6: =SUM(B6*C6) -> 0
A8: Advanced Agent, Officer | B8: 0 | C8: 11 | D8: =SUM(B8*C8) -> 0
A9: Yuuzhan Vong Shaper | B9: 0 | C9: 21 | D9: =SUM(B9*C9) -> 0
A10: Yuuzhan Vong Subaltern | B10: 0 | C10: 17 | D10: =SUM(B10*C10) -> 0
A12: Praetorite Vong Priest | B12: 0 | C12: 18 | D12: =SUM(B12*C12) -> 0
A14: Far Outsider | B14: 0 | C14: 11 | D14: =SUM(B14*C14) -> 0
A15: Peace Brigade Thug | B15: 0 | C15: 4 | D15: =SUM(B15*C15) -> 0
A16: Yuuzhan Vong Warrior | B16: 0 | C16: 8 | D16: =SUM(B16*C16) -> 0
A17: Advance Scout | B17: 0 | C17: 6 | D17: =SUM(B17*C17) -> 0
A19: Praetorite Vong Warrior | B19: 0 | C19: 22 | D19: =SUM(B19*C19) -> 0
A20: Yuuzhan Vong Elite Warrior | B20: 0 | C20: 14 | D20: =SUM(B20*C20) -> 0
... A22: Yuuzhan Vong Ossus Guardian | B22: 0 | C22: 26 | D22: =SUM(B22*C22) -> 0
