Workbook

Sheet Overview
A1: Australia Models | B1: Australia Points | C1: Obstacle Models | D1: Obstacle Points
A2: =Australia!E2 -> 0 | B2: =Australia!F2 -> 0 | C2: =Obstacles_And_Objectives!E2 -> 0 | D2: =Obstacles_And_Objectives!F2 -> 0
A3: Belgium Models | B3: Belguim Points | C3: Objective Models
A4: =Belgium!E2 -> 0 | B4: =Belgium!F2 -> 0 | C4: =Obstacles_And_Objectives!C7 -> 0
A5: Canada Models | B5: Canada Points | C5: Grand Total Models | D5: Grand Total Points
A6: =Canada!E2 -> 0 | B6: =Canada!F2 -> 0 | C6: =SUM(A1:A24,C8:C24) -> 0 | D6: =SUM(B1:B24,D8:D24) -> 0
A7: China Models | B7: China Points | C7: New Zealand Models | D7: New Zealand Points
A8: =China!E2 -> 0 | B8: =China!F2 -> 0 | C8: =New_Zealand!E2 -> 0 | D8: =New_Zealand!F2 -> 0
A9: Croatia Models | B9: Croatia Points | C9: Poland Models | D9: Poland Points
A10: =Croatia!E2 -> 0 | B10: =Croatia!F2 -> 0 | C10: =Poland!E2 -> 0 | D10: =Poland!F2 -> 0
A11: Finland Models | B11: Finland Points | C11: Romania Models | D11: Romania Points
A12: =Finland!E2 -> 0 | B12: =Finland!F2 -> 0 | C12: =Romania!E2 -> 0 | D12: =Romania!F2 -> 0
A13: France Models | B13: France Points | C13: Slovakia Models | D13: Slovakia Points
A14: =France!E2 -> 0 | B14: =France!F2 -> 0 | C14: =Slovakia!E2 -> 0 | D14: =Slovakia!F2 -> 0
A15: Germany Models | B15: Germany Points | C15: South Africa Models | D15: South Africa Points
A16: =Germany!E2 -> 0 | B16: =Germany!F2 -> 0 | C16: =South_Africa!E2 -> 0 | D16: =South_Africa!F2 -> 0
A17: Greece Models | B17: Greece Points | C17: UK Models | D17: UK Points
A18: =Greece!E2 -> 0 | B18: =Greece!F2 -> 0 | C18: =United_Kingdom!E2 -> 0 | D18: =United_Kingdom!F2 -> 0
A19: Hungary Models | B19: Hungary Points | C19: USA Models | D19: USA Points
A20: =Hungary!E2 -> 0 | B20: =Hungary!F2 -> 0 | C20: =United_States!E2 -> 0 | D20: =United_States!F2 -> 0
A21: Italy Models | B21: Italy Points | C21: USSR Models | D21: USSR Points
A22: =Italy!E2 -> 0 | B22: =Italy!F2 -> 0 | C22: =USSR!E2 -> 0 | D22: =USSR!F2 -> 0
A23: Japan Models | B23: Japan Points | C23: Yugoslavia Models | D23: Yugoslavia Points
A24: =Japan!E2 -> 0 | B24: =Japan!F2 -> 0 | C24: =Yugoslavia!E2 -> 0 | D24: =Yugoslavia!F2 -> 0

Sheet Obstacles_And_Objectives
A1: Model | B1: Quantity | C1: Point Cost | D1: Total Points | E1: Total Models | F1: Total Points
A2: Barbed Wire | B2: 0 | C2: 5 | D2: =SUM(B2*C2) -> 0 | E2: =SUM(B2:B5) -> 0 | F2: =SUM(D2:D99) -> 0
A3: Minefield | B3: 0 | C3: 12 | D3: =SUM(B3*C3) -> 0
A4: Pillbox | B4: 0 | C4: 6 | D4: =SUM(B4*C4) -> 0
A5: Tank Obstacle | B5: 0 | C5: 5 | D5: =SUM(B5*C5) -> 0
A6: Model | B6: Quantity | C6: Total Models
A7: Head Quarters | B7: 0 | C7: =SUM(B7:B9) -> 0
A8: Fuel Depot | B8: 0
A9: Ammo Dump | B9: 0

Sheet Australia
A1: Model | B1: Quantity | C1: Point Cost | D1: Total Points | E1: Total Models | F1: Total Points
A2: Australian Officer | B2: 0 | C2: 12 | D2: =SUM(B2*C2) -> 0 | E2: =SUM(B2:B100) -> 0 | F2: =SUM(D2:D100) -> 0
A3: Veteran SMLE Rifleman | B3: 0 | C3: 8 | D3: =SUM(B3*C3) -> 0
A4: Owen SMG | B4: 0 | C4: 4 | D4: =SUM(B4*C4) -> 0
A5: Lend Lease Stuart | B5: 0 | C5: 31 | D5: =SUM(B5*C5) -> 0
A6: Carro Armato M11/39 | B6: 0 | C6: 14 | D6: =SUM(B6*C6) -> 0
A7: SMLE Rifleman | B7: 0 | C7: 4 | D7: =SUM(B7*C7) -> 0
A8: CAC Boomerang | B8: 0 | C8: 21 | D8: =SUM(B8*C8) -> 0
A9: M11/39 Commander | B9: 0 | C9: 18 | D9: =SUM(B9*C9) -> 0
A10: Black Z Officer | B10: 0 | C10: 14 | D10: =SUM(B10*C10) -> 0

Sheet Belgium
A1: Model | B1: Quantity | C1: Point Cost | D1: Total Points | E1: Total Models | F1: Total Points
A2: Belgian Officer | B2: 0 | C2: 8 | D2: =SUM(B2*C2) -> 0 | E2: =SUM(B2:B97) -> 0 | F2: =SUM(D2:D97) -> 0
A3: Belgian Infantry | B3: 0 | C3: 4 | D3: =SUM(B3*C3) -> 0
A4: Belgian Bicycle Trooper | B4: 0 | C4: 6 | D4: =SUM(B4*C4) -> 0
A5: T-13B3 | B5: 0 | C5: 21 | D5: =SUM(B5*C5) -> 0
A6: Hawker Hurricane | B6: 0 | C6: 26 | D6: =SUM(B6*C6) -> 0
A7: T-13B3 Commander | B7: 0 | C7: 26 | D7: =SUM(B7*C7) -> 0
A8: Steadfast Hero | B8: 0 | C8: 12 | D8: =SUM(B8*C8) -> 0

Sheet Canada
A1: Model | B1: Quantity | C1: Point Cost | D1: Total Points | E1: Total Models | F1: Total Points
A2: Eagle-Eyed NCO | B2: 0 | C2: 11 | D2: =SUM(B2*C2) -> 0 | E2: =SUM(B2:B97) -> 0 | F2: =SUM(D2:D97) -> 0
A3: Intrepid Hero | B3: 0 | C3: 10 | D3: =SUM(B3*C3) -> 0
A4: Canadian Infantryman | B4: 0 | C4: 4 | D4: =SUM(B4*C4) -> 0
A5: Entrenched 6 Pounder | B5: 0 | C5: 13 | D5: =SUM(B5*C5) -> 0
A6: Ram Kangaroo | B6: 0 | C6: 27 | D6: =SUM(B6*C6) -> 0
A7: Sherman DD | B7: 0 | C7: 41 | D7: =SUM(B7*C7) -> 0
A8: Sherman VC Fireflly | B8: 0 | C8: 43 | D8: =SUM(B8*C8) -> 0
A9: Churchill III | B9: 0 | C9: 40 | D9: =SUM(B9*C9) -> 0
A10: Skink AA Tank | B10: 0 | C10: 41 | D10: =SUM(B10*C10) -> 0
A11: VC Firefly Commander | B11: 0 | C11: 50 | D11: =SUM(B11*C11) -> 0
A12: Hawker Hurricane | B12: 0 | C12: 26 | D12: =SUM(B12*C12) -> 0

Sheet China
A1: Model | B1: Quantity | C1: Point Cost | D1: Total Points | E1: Total Models | F1: Total Points
A2: Kuomintang Officer | B2: 0 | C2: 6 | D2: =SUM(B2*C2) -> 0 | E2: =SUM(B2:B97) -> 0 | F2: =SUM(D2:D97) -> 0
A3: Kuomintang Rifleman | B3: 0 | C3: 2 | D3: =SUM(B3*C3) -> 0
A4: Kuomintang MG Team | B4: 0 | C4: 6 | D4: =SUM(B4*C4) -> 0
A5: T-26 Series 1933 | B5: 0 | C5: 16 | D5: =SUM(B5*C5) -> 0
A6: P40 Tomahawk | B6: 0 | C6: 27 | D6: =SUM(B6*C6) -> 0
A7: T-26 Series 1933 Commander | B7: 0 | C7: 19 | D7: =SUM(B7*C7) -> 0
A8: Kuomintang Hero | B8: 0 | C8: 11 | D8: =SUM(B8*C8) -> 0

Sheet Croatia
A1: Model | B1: Quantity | C1: Point Cost | D1: Total Points | E1: Total Models | F1: Total Points
A2: Croation Infantry | B2: 0 | C2: 3 | D2: =SUM(B2*C2) -> 0 | E2: =SUM(B2:B96) -> 0 | F2: =SUM(D2:D96) -> 0
A3: Croation Officer | B3: 0 | C3: 8 | D3: =SUM(B3*C3) -> 0
A4: Croation Hero | B4: 0 | C4: 13 | D4: =SUM(B4*C4) -> 0
A5: Messerschmitt BF109E | B5: 0 | C5: 34 | D5: =SUM(B5*C5) -> 0
A6: Panzer III Ausf. N | B6: 0 | C6: 25 | D6: =SUM(B6*C6) -> 0
A7: L6/40 Commander | B7: 0 | C7: 19 | D7: =SUM(B7*C7) -> 0

Sheet Finland
A1: Model | B1: Quantity | C1: Point Cost | D1: Total Points | E1: Total Models | F1: Total Points
A2: Finnish Officer | B2: 0 | C2: 11 | D2: =SUM(B2*C2) -> 0 | E2: =SUM(B2:B97) -> 0 | F2: =SUM(D2:D97) -> 0
A3: Finnish Infantry | B3: 0 | C3: 4 | D3: =SUM(B3*C3) -> 0
A4: Finnish Ski Troop | B4: 0 | C4: 9 | D4: =SUM(B4*C4) -> 0
A5: Finnish MG Team | B5: 0 | C5: 11 | D5: =SUM(B5*C5) -> 0
A6: T-26E | B6: 0 | C6: 23 | D6: =SUM(B6*C6) -> 0
A7: Stug III Ausf. G | B7: 0 | C7: 41 | D7: =SUM(B7*C7) -> 0
A8: T-26E Commander | B8: 0 | C8: 30 | D8: =SUM(B8*C8) -> 0
A9: Finnish Hero | B9: 0 | C9: 9 | D9: =SUM(B9*C9) -> 0
A10: Hawker Hurricane | B10: 0 | C10: 26 | D10: =SUM(B10*C10) -> 0

Sheet France
A1: Model | B1: Quantity | C1: Point Cost | D1: Total Points | E1: Total Models | F1: Total Points
A2: Bold Captain | B2: 0 | C2: 12 | D2: =SUM(B2*C2) -> 0 | E2: =SUM(B2:B97) -> 0 | F2: =SUM(D2:D97) -> 0
A3: MAS 7.5mm Rifle | B3: 0 | C3: 4 | D3: =SUM(B3*C3) -> 0
A4: Free French Infantryman | B4: 0 | C4: 8 | D4: =SUM(B4*C4) -> 0
A5: Resistance Fighter | B5: 0 | C5: 3 | D5: =SUM(B5*C5) -> 0
A6: French Alpine Trooper | B6: 0 | C6: 9 | D6: =SUM(B6*C6) -> 0
A7: Lebel 86M93 Grenadier | B7: 0 | C7: 3 | D7: =SUM(B7*C7) -> 0
A8: Hotchkiss MG Team | B8: 0 | C8: 11 | D8: =SUM(B8*C8) -> 0
A9: Canon De 75 Model 1897 | B9: 0 | C9: 26 | D9: =SUM(B9*C9) -> 0
A10: P107 Halftrack | B10: 0 | C10: 5 | D10: =SUM(B10*C10) -> 0
A11: Hotchkiss H39 | B11: 0 | C11: 25 | D11: =SUM(B11*C11) -> 0
A12: FCM 36 | B12: 0 | C12: 26 | D12: =SUM(B12*C12) -> 0
A13: Renault R-35 | B13: 0 | C13: 22 | D13: =SUM(B13*C13) -> 0
A14: Somua S-35 | B14: 0 | C14: 25 | D14: =SUM(B14*C14) -> 0
... A26: Free French Hero | B26: 0 | C26: 14 | D26: =SUM(B26*C26) -> 0

Sheet Germany
A1: Model | B1: Quantity | C1: Point Cost | D1: Total Points | E1: Total Models | F1: Total Points
A2: SS Haupsturmfuhrer | B2: 0 | C2: 11 | D2: =SUM(B2*C2) -> 0 | E2: =SUM(B2:B97) -> 0 | F2: =SUM(D2:D97) -> 0
A3: Wehrmacht Oberleutnant | B3: 0 | C3: 15 | D3: =SUM(B3*C3) -> 0
A4: Grizzled Veteran | B4: 0 | C4: 9 | D4: =SUM(B4*C4) -> 0
A5: Panzer IV Ausf. H Commander | B5: 0 | C5: 43 | D5: =SUM(B5*C5) -> 0
A6: Panzer III Ausf. N Commander | B6: 0 | C6: 30 | D6: =SUM(B6*C6) -> 0
A7: Mauser Kar98k | B7: 0 | C7: 4 | D7: =SUM(B7*C7) -> 0
A8: Veteran Fallshirmjager | B8: 0 | C8: 14 | D8: =SUM(B8*C8) -> 0
A9: SS Panzergrenadier | B9: 0 | C9: 13 | D9: =SUM(B9*C9) -> 0
A10: Panzergrenadier | B10: 0 | C10: 5 | D10: =SUM(B10*C10) -> 0
A11: Luftwaffe Infantryman | B11: 0 | C11: 5 | D11: =SUM(B11*C11) -> 0
A12: Fortress Defender | B12: 0 | C12: 2 | D12: =SUM(B12*C12) -> 0
A13: Volkssturm Infantry | B13: 0 | C13: 2 | D13: =SUM(B13*C13) -> 0
A14: Werewolf Patrisans | B14: 0 | C14: 5 | D14: =SUM(B14*C14) -> 0
... A93: Panzer VIII Maus | B93: 0 | C93: 84 | D93: =SUM(B93*C93) -> 0

Sheet Greece
A1: Model | B1: Quantity | C1: Point Cost | D1: Total Points | E1: Total Models | F1: Total Points
A2: Greek Officer | B2: 0 | C2: 9 | D2: =SUM(B2*C2) -> 0 | E2: =SUM(B2:B97) -> 0 | F2: =SUM(D2:D97) -> 0
A3: Greek Soldier | B3: 0 | C3: 4 | D3: =SUM(B3*C3) -> 0
A4: Greek Mountain Infantry | B4: 0 | C4: 9 | D4: =SUM(B4*C4) -> 0
A5: Greek Calvary | B5: 0 | C5: 6 | D5: =SUM(B5*C5) -> 0
A6: Universal Carrier | B6: 0 | C6: 13 | D6: =SUM(B6*C6) -> 0
A7: Carro Armato M13/40 | B7: 0 | C7: 19 | D7: =SUM(B7*C7) -> 0
A8: Bloch MB.150 | B8: 0 | C8: 27 | D8: =SUM(B8*C8) -> 0
A9: Greek Hero | B9: 0 | C9: 11 | D9: =SUM(B9*C9) -> 0
A10: M13/40 Commander | B10: 0 | C10: 22 | D10: =SUM(B10*C10) -> 0

Sheet Hungary
A1: Model | B1: Quantity | C1: Point Cost | D1: Total Points | E1: Total Models | F1: Total Points
A2: Tenacious Officer | B2: 0 | C2: 7 | D2: =SUM(B2*C2) -> 0 | E2: =SUM(B2:B97) -> 0 | F2: =SUM(D2:D97) -> 0
A3: 8mm Huzagol 35M | B3: 0 | C3: 4 | D3: =SUM(B3*C3) -> 0
A4: Solothurn 31M MG Team | B4: 0 | C4: 11 | D4: =SUM(B4*C4) -> 0
A5: 37mm Light Antitank Gun | B5: 0 | C5: 11 | D5: =SUM(B5*C5) -> 0
A6: PZKPFW 38T | B6: 0 | C6: 20 | D6: =SUM(B6*C6) -> 0
A7: 42M Toldi IIA | B7: 0 | C7: 22 | D7: =SUM(B7*C7) -> 0
A8: Turan 1 | B8: 0 | C8: 23 | D8: =SUM(B8*C8) -> 0
A9: 40/43M Zrinyi Assault Gun | B9: 0 | C9: 29 | D9: =SUM(B9*C9) -> 0
A10: Turan 1 Commander | B10: 0 | C10: 27 | D10: =SUM(B10*C10) -> 0
A11: MAVAG Heja II | B11: 0 | C11: 27 | D11: =SUM(B11*C11) -> 0
A12: Commanding Hero | B12: 0 | C12: 9 | D12: =SUM(B12*C12) -> 0

Sheet Italy
A1: Model | B1: Quantity | C1: Point Cost | D1: Total Points | E1: Total Models | F1: Total Points
A2: Stalwart Lieutenant | B2: 0 | C2: 8 | D2: =SUM(B2*C2) -> 0 | E2: =SUM(B2:B97) -> 0 | F2: =SUM(D2:D97) -> 0
A3: Stalwart Hero | B3: 0 | C3: 20 | D3: =SUM(B3*C3) -> 0
A4: Fucile Modello 1891 | B4: 0 | C4: 4 | D4: =SUM(B4*C4) -> 0
A5: Blackshirt | B5: 0 | C5: 10 | D5: =SUM(B5*C5) -> 0
A6: Italian Alpine Trooper | B6: 0 | C6: 9 | D6: =SUM(B6*C6) -> 0
A7: Italian Conscript | B7: 0 | C7: 2 | D7: =SUM(B7*C7) -> 0
A8: Brixia M35 45mm Mortal | B8: 0 | C8: 3 | D8: =SUM(B8*C8) -> 0
A9: Breda Modello 30 LMG | B9: 0 | C9: 3 | D9: =SUM(B9*C9) -> 0
A10: Breda Modello 37 | B10: 0 | C10: 10 | D10: =SUM(B10*C10) -> 0
A11: 47/32 Antitank Gun | B11: 0 | C11: 12 | D11: =SUM(B11*C11) -> 0
A12: Cannone Da 75/27 Modello 11 | B12: 0 | C12: 17 | D12: =SUM(B12*C12) -> 0
A13: L3/35 | B13: 0 | C13: 15 | D13: =SUM(B13*C13) -> 0
A14: L6/40 | B14: 0 | C14: 16 | D14: =SUM(B14*C14) -> 0
... A24: M13/40 Commander | B24: 0 | C24: 23 | D24: =SUM(B24*C24) -> 0

Sheet Japan
A1: Model | B1: Quantity | C1: Point Cost | D1: Total Points | E1: Total Models | F1: Total Points
A2: Imperial Sergeant | B2: 0 | C2: 11 | D2: =SUM(B2*C2) -> 0 | E2: =SUM(B2:B97) -> 0 | F2: =SUM(D2:D97) -> 0
A3: SNLF Captain | B3: 0 | C3: 12 | D3: =SUM(B3*C3) -> 0
A4: Honor Bound Hero | B4: 0 | C4: 13 | D4: =SUM(B4*C4) -> 0
A5: Arisaka Rifle | B5: 0 | C5: 5 | D5: =SUM(B5*C5) -> 0
A6: SNLF Paratrooper | B6: 0 | C6: 6 | D6: =SUM(B6*C6) -> 0
A7: SNLF Fanatic | B7: 0 | C7: 10 | D7: =SUM(B7*C7) -> 0
A8: Azad Hind Fauj | B8: 0 | C8: 4 | D8: =SUM(B8*C8) -> 0
A9: Japanese Bicycle Trooper | B9: 0 | C9: 6 | D9: =SUM(B9*C9) -> 0
A10: Type 89 Mortar | B10: 0 | C10: 6 | D10: =SUM(B10*C10) -> 0
A11: Imperial Sniper | B11: 0 | C11: 8 | D11: =SUM(B11*C11) -> 0
A12: Jungle Spotter | B12: 0 | C12: 6 | D12: =SUM(B12*C12) -> 0
A13: Type 99 LMG | B13: 0 | C13: 8 | D13: =SUM(B13*C13) -> 0
A14: Japanese Sapper | B14: 0 | C14: 7 | D14: =SUM(B14*C14) -> 0
... A43: NIK-J Shiden Kai Ace | B43: 0 | C43: 31 | D43: =SUM(B43*C43) -> 0

Sheet New_Zealand
A1: Model | B1: Quantity | C1: Point Cost | D1: Total Points | E1: Total Models | F1: Total Points
A2: Maori Commander | B2: 0 | C2: 6 | D2: =SUM(B2*C2) -> 0 | E2: =SUM(B2:B97) -> 0 | F2: =SUM(D2:D97) -> 0
A3: Maori Infantry | B3: 0 | C3: 5 | D3: =SUM(B3*C3) -> 0
A4: Daimler Dingo | B4: 0 | C4: 21 | D4: =SUM(B4*C4) -> 0
A5: M4A1 Sherman Commander | B5: 0 | C5: 38 | D5: =SUM(B5*C5) -> 0
A6: M4A1 Sherman | B6: 0 | C6: 35 | D6: =SUM(B6*C6) -> 0
A7: Hawker Hurricane | B7: 0 | C7: 26 | D7: =SUM(B7*C7) -> 0
A8: Maori Hero | B8: 0 | C8: 13 | D8: =SUM(B8*C8) -> 0

Sheet Poland
A1: Model | B1: Quantity | C1: Point Cost | D1: Total Points | E1: Total Models | F1: Total Points
A2: Polish Officer | B2: 0 | C2: 9 | D2: =SUM(B2*C2) -> 0 | E2: =SUM(B2:B97) -> 0 | F2: =SUM(D2:D97) -> 0
A3: Determined Infantryman | B3: 0 | C3: 8 | D3: =SUM(B3*C3) -> 0
A4: Mauser Kar98 | B4: 0 | C4: 4 | D4: =SUM(B4*C4) -> 0
A5: WZ.36 37mm ATG | B5: 0 | C5: 11 | D5: =SUM(B5*C5) -> 0
A6: Cavalryman | B6: 0 | C6: 7 | D6: =SUM(B6*C6) -> 0
A7: 7TPDW (Twin) | B7: 0 | C7: 19 | D7: =SUM(B7*C7) -> 0
A8: 7TP | B8: 0 | C8: 18 | D8: =SUM(B8*C8) -> 0
A9: TKS Ursus Tankette | B9: 0 | C9: 10 | D9: =SUM(B9*C9) -> 0
A10: Cromwell IV | B10: 0 | C10: 35 | D10: =SUM(B10*C10) -> 0
A11: Polish Paratrooper | B11: 0 | C11: 10 | D11: =SUM(B11*C11) -> 0
A12: Polish Hero | B12: 0 | C12: 14 | D12: =SUM(B12*C12) -> 0
A13: Cromwell IV Commander | B13: 0 | C13: 41 | D13: =SUM(B13*C13) -> 0
A14: PZL.23 Kara's | B14: 0 | C14: 26 | D14: =SUM(B14*C14) -> 0

Sheet Romania
A1: Model | B1: Quantity | C1: Point Cost | D1: Total Points | E1: Total Models | F1: Total Points
A2: Vigilant Lieutenant | B2: 0 | C2: 9 | D2: =SUM(B2*C2) -> 0 | E2: =SUM(B2:B97) -> 0 | F2: =SUM(D2:D97) -> 0
A3: Romanian Infantry | B3: 0 | C3: 4 | D3: =SUM(B3*C3) -> 0
A4: Antitank Grenadier | B4: 0 | C4: 5 | D4: =SUM(B4*C4) -> 0
A5: Romanian Mortar | B5: 0 | C5: 6 | D5: =SUM(B5*C5) -> 0
A6: Bohler 47mm | B6: 0 | C6: 12 | D6: =SUM(B6*C6) -> 0
A7: Romanian Cavalry | B7: 0 | C7: 6 | D7: =SUM(B7*C7) -> 0
A8: Sd. Kfz. 251 | B8: 0 | C8: 21 | D8: =SUM(B8*C8) -> 0
A9: R-2 LT-35 | B9: 0 | C9: 20 | D9: =SUM(B9*C9) -> 0
A10: Renault R-35 | B10: 0 | C10: 22 | D10: =SUM(B10*C10) -> 0
A11: T-4 Medium Tank | B11: 0 | C11: 32 | D11: =SUM(B11*C11) -> 0
A12: T-4 Medium Tank Commander | B12: 0 | C12: 40 | D12: =SUM(B12*C12) -> 0
A13: Romanian Hero | B13: 0 | C13: 11 | D13: =SUM(B13*C13) -> 0
A14: IAR 80 | B14: 0 | C14: 26 | D14: =SUM(B14*C14) -> 0

Sheet Slovakia
A1: Model | B1: Quantity | C1: Point Cost | D1: Total Points | E1: Total Models | F1: Total Points
A2: Slovakian Infantry | B2: 0 | C2: 4 | D2: =SUM(B2*C2) -> 0 | E2: =SUM(B2:B96) -> 0 | F2: =SUM(D2:D96) -> 0
A3: Motorcycle Recon | B3: 0 | C3: 7 | D3: =SUM(B3*C3) -> 0
A4: PZKPFW 38T | B4: 0 | C4: 18 | D4: =SUM(B4*C4) -> 0
A5: PZKPFW 35T | B5: 0 | C5: 20 | D5: =SUM(B5*C5) -> 0
A6: Marder III Ausf. M | B6: 0 | C6: 29 | D6: =SUM(B6*C6) -> 0
A7: Slovakian Officer | B7: 0 | C7: 8 | D7: =SUM(B7*C7) -> 0
A8: PZKPFW 35T Commander | B8: 0 | C8: 24 | D8: =SUM(B8*C8) -> 0
A9: Messerschmitt BF109E | B9: 0 | C9: 34 | D9: =SUM(B9*C9) -> 0
A10: Slovakian | B10: 0 | C10: 12 | D10: =SUM(B10*C10) -> 0

Sheet South_Africa
A1: Model | B1: Quantity | C1: Point Cost | D1: Total Points | E1: Total Models | F1: Total Points
A2: South Arican Infantry | B2: 0 | C2: 4 | D2: =SUM(B2*C2) -> 0 | E2: =SUM(B2:B94) -> 0 | F2: =SUM(D2:D94) -> 0
A3: Valentine II | B3: 0 | C3: 28 | D3: =SUM(B3*C3) -> 0
A4: Marmon Herrington Mk II | B4: 0 | C4: 21 | D4: =SUM(B4*C4) -> 0
A5: South African Officer | B5: 0 | C5: 11 | D5: =SUM(B5*C5) -> 0
A6: Valentine II Commander | B6: 0 | C6: 32 | D6: =SUM(B6*C6) -> 0
A7: South African Hero | B7: 0 | C7: 15 | D7: =SUM(B7*C7) -> 0
A8: Supermarine Spitfire Mk 1 | B8: 0 | C8: 28 | D8: =SUM(B8*C8) -> 0

Sheet United_Kingdom
A1: Model | B1: Quantity | C1: Point Cost | D1: Total Points | E1: Total Models | F1: Total Points
A2: Inspiring Lieutenant | B2: 0 | C2: 11 | D2: =SUM(B2*C2) -> 0 | E2: =SUM(B2:B95) -> 0 | F2: =SUM(D2:D95) -> 0
A3: Inspiring Hero | B3: 0 | C3: 12 | D3: =SUM(B3*C3) -> 0
A4: SMLE No.4 Rifle | B4: 0 | C4: 4 | D4: =SUM(B4*C4) -> 0
A5: Gurkha Rifleman | B5: 0 | C5: 9 | D5: =SUM(B5*C5) -> 0
A6: Defiant Paratrooper | B6: 0 | C6: 11 | D6: =SUM(B6*C6) -> 0
A7: BEF Infantryman | B7: 0 | C7: 5 | D7: =SUM(B7*C7) -> 0
A8: Royal Engineer | B8: 0 | C8: 9 | D8: =SUM(B8*C8) -> 0
A9: PIAT Gunner | B9: 0 | C9: 6 | D9: =SUM(B9*C9) -> 0
A10: Bren Machine Gunner | B10: 0 | C10: 7 | D10: =SUM(B10*C10) -> 0
A11: Forward Observer | B11: 0 | C11: 2 | D11: =SUM(B11*C11) -> 0
A12: Sten SMG | B12: 0 | C12: 4 | D12: =SUM(B12*C12) -> 0
A13: Vickers MG Team | B13: 0 | C13: 11 | D13: =SUM(B13*C13) -> 0
A14: 2 Pounder | B14: 0 | C14: 13 | D14: =SUM(B14*C14) -> 0
... A44: Hawker Typhoon 1B | B44: 0 | C44: 30 | D44: =SUM(B44*C44) -> 0

Sheet United_States
A1: Model | B1: Quantity | C1: Point Cost | D1: Total Points | E1: Total Models | F1: Total Points
A2: Red Devil Captain | B2: 0 | C2: 11 | D2: =SUM(B2*C2) -> 0 | E2: =SUM(B2:B96) -> 0 | F2: =SUM(D2:D96) -> 0
A3: Screaming Eagle Captain | B3: 0 | C3: 14 | D3: =SUM(B3*C3) -> 0
A4: Resourceful Hero | B4: 0 | C4: 13 | D4: =SUM(B4*C4) -> 0
A5: M4A1 Sherman Commander | B5: 0 | C5: 40 | D5: =SUM(B5*C5) -> 0
A6: Marine Sergeant | B6: 0 | C6: 10 | D6: =SUM(B6*C6) -> 0
A7: M1 Garande | B7: 0 | C7: 6 | D7: =SUM(B7*C7) -> 0
A8: Screaming Eagle Paratrooper | B8: 0 | C8: 14 | D8: =SUM(B8*C8) -> 0
A9: Marine Rifleman | B9: 0 | C9: 5 | D9: =SUM(B9*C9) -> 0
A10: Buffalo Soldier | B10: 0 | C10: 8 | D10: =SUM(B10*C10) -> 0
A11: Rangers | B11: 0 | C11: 13 | D11: =SUM(B11*C11) -> 0
A12: Untested Recruit | B12: 0 | C12: 3 | D12: =SUM(B12*C12) -> 0
A13: M1 Bazooka | B13: 0 | C13: 8 | D13: =SUM(B13*C13) -> 0
A14: M2-2 Flamethrower | B14: 0 | C14: 5 | D14: =SUM(B14*C14) -> 0
... A79: M4A1 Sherman (76mm) | B79: 0 | C79: 36 | D79: =SUM(B79*C79) -> 0

Sheet USSR
A1: Model | B1: Quantity | C1: Point Cost | D1: Total Points | E1: Total Models | F1: Total Points
A2: Commissar | B2: 0 | C2: 5 | D2: =SUM(B2*C2) -> 0 | E2: =SUM(B2:B100) -> 0 | F2: =SUM(D2:D100) -> 0
A3: Cossack Captain | B3: 0 | C3: 6 | D3: =SUM(B3*C3) -> 0
A4: Hero of the Soviet Union | B4: 0 | C4: 8 | D4: =SUM(B4*C4) -> 0
A5: Veteran NCO | B5: 0 | C5: 9 | D5: =SUM(B5*C5) -> 0
A6: T-34/76 Commander | B6: 0 | C6: 45 | D6: =SUM(B6*C6) -> 0
A7: Mosin-Nagant 1891/30 | B7: 0 | C7: 3 | D7: =SUM(B7*C7) -> 0
A8: Communist Partisans | B8: 0 | C8: 5 | D8: =SUM(B8*C8) -> 0
A9: Soviet Polish Infantry | B9: 0 | C9: 2 | D9: =SUM(B9*C9) -> 0
A10: Soviet Conscript | B10: 0 | C10: 2 | D10: =SUM(B10*C10) -> 0
A11: Guards Infantry | B11: 0 | C11: 12 | D11: =SUM(B11*C11) -> 0
A12: Siberian Shock Trooper | B12: 0 | C12: 7 | D12: =SUM(B12*C12) -> 0
A13: Fanatical Sniper | B13: 0 | C13: 7 | D13: =SUM(B13*C13) -> 0
A14: PPSH-41 SMG | B14: 0 | C14: 3 | D14: =SUM(B14*C14) -> 0
... A56: MiG-1 Ace | B56: 0 | C56: 27 | D56: =SUM(B56*C56) -> 0

Sheet Yugoslavia
A1: Model | B1: Quantity | C1: Point Cost | D1: Total Points | E1: Total Models | F1: Total Points
A2: Partisan Commander | B2: 0 | C2: 5 | D2: =SUM(B2*C2) -> 0 | E2: =SUM(B2:B93) -> 0 | F2: =SUM(D2:D93) -> 0
A3: Partisan Infantry | B3: 0 | C3: 5 | D3: =SUM(B3*C3) -> 0
A4: Partisan Hero | B4: 0 | C4: 17 | D4: =SUM(B4*C4) -> 0
A5: Renault R-35 | B5: 0 | C5: 22 | D5: =SUM(B5*C5) -> 0
A6: Renault R-35 Commander | B6: 0 | C6: 27 | D6: =SUM(B6*C6) -> 0
A7: Hawker Hurricane | B7: 0 | C7: 26 | D7: =SUM(B7*C7) -> 0
